BEGIN:VCALENDAR
VERSION:2.0
PRODID:-//OmniMagnetCalendar//EN
BEGIN:VEVENT
DTSTAMP:20190625T195740Z
STATUS:CONFIRMED
UID:hbas.sigs.harvard.edu451
DTSTART:20251011T220000Z
DTEND:20251012T000000Z
LOCATION:Lucille's , 5512 La Branch St. , Houston, TX, 77004, United States,
SUMMARY:Inaugural HBAS-Houston Event - October 11
DESCRIPTION:Join fellow alumni in the Houston area for the inaugural HBAS-Houston gathering and cocktail hour on October 11, 2025 from 5-7pm at Lucille's.
BEGIN:VALARM
TRIGGER:-PT15M
ACTION:DISPLAY
END:VALARM
TRANSP:OPAQUE
END:VEVENT
END:VCALENDAR
