BEGIN:VCALENDAR
VERSION:2.0
PRODID:-//OmniMagnetCalendar//EN
BEGIN:VEVENT
DTSTAMP:20190625T195740Z
STATUS:CONFIRMED
UID:hbas.sigs.harvard.edu453
DTSTART:20251022T230000Z
DTEND:20251023T010000Z
LOCATION:Truth be Told, 1227 E 60th Street, Chicago, IL, 60637, USA,
SUMMARY:HBAS Chicago Happy Hour Meetup
DESCRIPTION:
BEGIN:VALARM
TRIGGER:-PT15M
ACTION:DISPLAY
END:VALARM
TRANSP:OPAQUE
END:VEVENT
END:VCALENDAR
