BEGIN:VCALENDAR
VERSION:2.0
PRODID:-//OmniMagnetCalendar//EN
BEGIN:VEVENT
DTSTAMP:20190625T195740Z
STATUS:CONFIRMED
UID:hbas.sigs.harvard.edu464
DTSTART:20251206T020000Z
DTEND:20251206T050000Z
LOCATION:Pips on La Brea, 1356 S. La Brea Avenue, None, Los Angeles, CA, 90019, United States,
SUMMARY:HBAS LA & HLS BAN Holiday Party
DESCRIPTION:Join the Harvard Black Alumni Society Los Angeles Regional Chapter and the Harvard Law School Black Alumni Network for our annual holiday party at the Black-owned jazz restaurant, Pips on La Brea.
BEGIN:VALARM
TRIGGER:-PT15M
ACTION:DISPLAY
END:VALARM
TRANSP:OPAQUE
END:VEVENT
END:VCALENDAR
