BEGIN:VCALENDAR
VERSION:2.0
PRODID:-//OmniMagnetCalendar//EN
BEGIN:VEVENT
DTSTAMP:20190625T195740Z
STATUS:CONFIRMED
UID:hbas.sigs.harvard.edu466
DTSTART:20251124T230000Z
DTEND:20251125T010000Z
LOCATION:The Foundry, 101 Rogers Street, Cambridge, MA, 02142, USA,
SUMMARY:HBAS-Boston Friendsgiving: Harvest & Heritage
DESCRIPTION:
BEGIN:VALARM
TRIGGER:-PT15M
ACTION:DISPLAY
END:VALARM
TRANSP:OPAQUE
END:VEVENT
END:VCALENDAR
