BEGIN:VCALENDAR
VERSION:2.0
PRODID:-//OmniMagnetCalendar//EN
BEGIN:VEVENT
DTSTAMP:20190625T195740Z
STATUS:CONFIRMED
UID:hbas.sigs.harvard.edu470
DTSTART:20260123T230000Z
DTEND:20260124T020000Z
LOCATION:Retreat by the Gathering Spot, 1115 Howell Mill Rd, Atlanta, Ga, 30318,
SUMMARY:HBAS Atlanta- Toast to the New Year Happy Hour
DESCRIPTION:
BEGIN:VALARM
TRIGGER:-PT15M
ACTION:DISPLAY
END:VALARM
TRANSP:OPAQUE
END:VEVENT
END:VCALENDAR
