BEGIN:VCALENDAR
VERSION:2.0
PRODID:-//OmniMagnetCalendar//EN
BEGIN:VEVENT
DTSTAMP:20190625T195740Z
STATUS:CONFIRMED
UID:hbas.sigs.harvard.edu490
DTSTART:20260226T230000Z
DTEND:20260227T003000Z
LOCATION:Harvard Club of New York, 35 West 44th St. , New York, NY, 10036,
SUMMARY:Celebrating Black History Month Cocktail Party at the Harvard Club of New York
DESCRIPTION:Join former Harvard Black Alumni Society and Harvard Club of New York members for the Annual Black History Month Cocktail Hour!  Open bar, canapes, and the beautiful backdrop of the Harvard Club of NY.
BEGIN:VALARM
TRIGGER:-PT15M
ACTION:DISPLAY
END:VALARM
TRANSP:OPAQUE
END:VEVENT
END:VCALENDAR
